BEGIN:VCALENDAR
VERSION:2.0
PRODID:-//hacksw/handcal//NONSGML v1.0//EN
CALSCALE:GREGORIAN
BEGIN:VEVENT
ORGANIZER;CN=Take-Two Interactive Software, Inc.:MAILTO:no-reply@mail.gcs-web.com
DTEND:
UID:64aae3e8-572b-4d95-9328-ec181c5e4196
DTSTAMP:1777129006
LOCATION:https://events.q4inc.com/attendee/689334386
DESCRIPTION:Event Details https://ir.take2games.com/events/event-details/q4-2026-take-two-interactive-software-inc-earnings-conference-call\n\nWebcast: https://events.q4inc.com/attendee/689334386
URL;VALUE=URI:https://events.q4inc.com/attendee/689334386
SUMMARY:Take-Two Interactive Software, Inc. - Q4 2026 Take-Two Interactive Software, Inc. Earnings Conference Call
DTSTART:20260521T203000Z
END:VEVENT
END:VCALENDAR